BEGIN:VCALENDAR
VERSION:2.0
CREATED:20260421T040456Z
PRODID:-//Hercules Capital\, Inc./Equisolve Calendar v1.0//EN
METHOD:PUBLISH
BEGIN:VEVENT
UID:aac8a39c57cb6f96d9c9fbeefa3a80c7
DTSTAMP:20260421T122253Z
DTSTART:20260505T210000Z
DTEND:20260505T220000Z
SUMMARY:Hercules Capital Q1 2026 Earnings Conference Call
DESCRIPTION:Hercules Capital Q1 2026 Earnings Conference Call
Date: May 5\, 2026 5:00 pm EDT
Webcast: https://event.on24.com/wcc/r/5303140/C4331E5EB27B19F50873F26DC17F9249
END:VEVENT
END:VCALENDAR
